BEGIN:VCALENDAR
VERSION:2.0
PRODID:-//New Generation Worship Center - ECPv6.15.17.1//NONSGML v1.0//EN
CALSCALE:GREGORIAN
METHOD:PUBLISH
X-WR-CALNAME:New Generation Worship Center
X-ORIGINAL-URL:https://www.newgenerationwc.org
X-WR-CALDESC:Events for New Generation Worship Center
REFRESH-INTERVAL;VALUE=DURATION:PT1H
X-Robots-Tag:noindex
X-PUBLISHED-TTL:PT1H
BEGIN:VTIMEZONE
TZID:UTC
BEGIN:STANDARD
TZOFFSETFROM:+0000
TZOFFSETTO:+0000
TZNAME:UTC
DTSTART:20220101T000000
END:STANDARD
END:VTIMEZONE
BEGIN:VEVENT
DTSTART;TZID=UTC:20240420T120000
DTEND;TZID=UTC:20240420T140000
DTSTAMP:20260422T073604
CREATED:20240418T182041Z
LAST-MODIFIED:20240418T182338Z
UID:3331-1713614400-1713621600@www.newgenerationwc.org
SUMMARY:Church Outreach
DESCRIPTION:Canvassing the Community Church Outreach:
URL:https://www.newgenerationwc.org/event/3331/
END:VEVENT
BEGIN:VEVENT
DTSTART;VALUE=DATE:20240101
DTEND;VALUE=DATE:20240102
DTSTAMP:20260422T073604
CREATED:20231115T033230Z
LAST-MODIFIED:20231115T033230Z
UID:3298-1704067200-1704153599@www.newgenerationwc.org
SUMMARY:Happy Bless Year!
DESCRIPTION:Happy Blessed Year from New Generation Church
URL:https://www.newgenerationwc.org/event/happy-bless-year/
END:VEVENT
BEGIN:VEVENT
DTSTART;VALUE=DATE:20231231
DTEND;VALUE=DATE:20240101
DTSTAMP:20260422T073604
CREATED:20231115T033108Z
LAST-MODIFIED:20231115T050333Z
UID:3296-1703980800-1704067199@www.newgenerationwc.org
SUMMARY:Sunday New Year Eve's Services @10AM and 9:30 PM In-Person
DESCRIPTION:Please connect with New Generation Church on Zoom for our New Year Eve’s Services @ 10 AM and 9:30 PM. \nZoom ID: 727 329 7404    Zoom Passcode: 571993
URL:https://www.newgenerationwc.org/event/sunday-new-year-eves-services-10am-and-930-pm-in-person/
CATEGORIES:Service
END:VEVENT
BEGIN:VEVENT
DTSTART;VALUE=DATE:20231225
DTEND;VALUE=DATE:20231226
DTSTAMP:20260422T073604
CREATED:20231115T032409Z
LAST-MODIFIED:20231115T032409Z
UID:3292-1703462400-1703548799@www.newgenerationwc.org
SUMMARY:Christmas Day  Praise the Lord
DESCRIPTION:Merry Christmas fro New Generation Church
URL:https://www.newgenerationwc.org/event/christmas-day-praise-the-lord/
END:VEVENT
BEGIN:VEVENT
DTSTART;TZID=UTC:20231224T100000
DTEND;TZID=UTC:20231224T120000
DTSTAMP:20260422T073604
CREATED:20231115T032050Z
LAST-MODIFIED:20231115T032050Z
UID:3290-1703412000-1703419200@www.newgenerationwc.org
SUMMARY:Sunday Christmas Eve Service In-Person @ 10AM EST (Click Here)
DESCRIPTION:Please connect with New Generation Church on Zoom for our Christmas Eve Service. \nZoom ID: 727 329 7404    Zoom Passcode: 571993
URL:https://www.newgenerationwc.org/event/sunday-christmas-eve-service-in-person-10am-est-click-here/
END:VEVENT
BEGIN:VEVENT
DTSTART;TZID=UTC:20231217T100000
DTEND;TZID=UTC:20231217T120000
DTSTAMP:20260422T073604
CREATED:20231115T022908Z
LAST-MODIFIED:20231115T022908Z
UID:3281-1702807200-1702814400@www.newgenerationwc.org
SUMMARY:Sunday Worship Service In-Person @ 10 AM EST (click here)
DESCRIPTION:Please connect with New Generation Church on Zoom for Worship. \nZoom ID: 727 329 7404    Zoom Passcode: 571993
URL:https://www.newgenerationwc.org/event/sunday-worship-service-in-person-10-am-est-click-here/
CATEGORIES:Service
END:VEVENT
BEGIN:VEVENT
DTSTART;TZID=UTC:20231210T100000
DTEND;TZID=UTC:20231210T150000
DTSTAMP:20260422T073604
CREATED:20231115T021850Z
LAST-MODIFIED:20231115T030628Z
UID:3277-1702202400-1702220400@www.newgenerationwc.org
SUMMARY:Sunday Worship and Chirstmas Fellowship Luncheon Inperson @ 10AM (Click Here)
DESCRIPTION:Please connect with New Generation Church on Zoom for Worship or Inperson. \nZoom ID: 727 329 7404    Zoom Passcode: 571993
URL:https://www.newgenerationwc.org/event/sunday-worship-and-chirstmas-fellowship-luncheon-inperson-10am-click-here/
CATEGORIES:Special Events
END:VEVENT
BEGIN:VEVENT
DTSTART;TZID=UTC:20231204T183000
DTEND;TZID=UTC:20231208T193000
DTSTAMP:20260422T073604
CREATED:20231115T021231Z
LAST-MODIFIED:20231115T021231Z
UID:3275-1701714600-1702063800@www.newgenerationwc.org
SUMMARY:Kingdom Connection Zoom Service @ 6:45-7:30 PM Nightly (Click Here)
DESCRIPTION:Please connect with New Generation Church on Zoom for Kingdom Connection. \nZoom ID: 727 329 7404    Zoom Passcode: 571993
URL:https://www.newgenerationwc.org/event/kingdom-connection-zoom-service-645-730-pm-nightly-click-here/
CATEGORIES:Community
END:VEVENT
BEGIN:VEVENT
DTSTART;TZID=UTC:20231203T100000
DTEND;TZID=UTC:20231203T120000
DTSTAMP:20260422T073604
CREATED:20231115T031405Z
LAST-MODIFIED:20231115T031405Z
UID:3287-1701597600-1701604800@www.newgenerationwc.org
SUMMARY:Sunday Worship and Communion In-Person Service @ 10 AM EST (Click Here)
DESCRIPTION:Please connect with New Generation Church on Zoom for Worship and Communion. \nZoom ID: 727 329 7404    Zoom Passcode: 571993
URL:https://www.newgenerationwc.org/event/sunday-worship-and-communion-in-person-service-10-am-est-click-here/
CATEGORIES:Communion
END:VEVENT
BEGIN:VEVENT
DTSTART;TZID=UTC:20231202T140000
DTEND;TZID=UTC:20231202T170000
DTSTAMP:20260422T073604
CREATED:20231115T020811Z
LAST-MODIFIED:20231115T020811Z
UID:3271-1701525600-1701536400@www.newgenerationwc.org
SUMMARY:NGWC Leadership Meeting @2:00 PM
DESCRIPTION:Pastor and the Leadership Team Meeting at the Church from 2-5 pm
URL:https://www.newgenerationwc.org/event/ngwc-leadership-meeting-200-pm/
CATEGORIES:Meeting
END:VEVENT
BEGIN:VEVENT
DTSTART;TZID=UTC:20231127T183000
DTEND;TZID=UTC:20231201T193000
DTSTAMP:20260422T073604
CREATED:20231115T020556Z
LAST-MODIFIED:20231115T020556Z
UID:3269-1701109800-1701459000@www.newgenerationwc.org
SUMMARY:Kingdom Connection Zoom Service 6:45-7:30 PM EST Nightly (Click Here)
DESCRIPTION:Please connect with New Generation Church on Zoom for Kingdom Connection. \nZoom ID: 727 329 7404    Zoom Passcode: 571993
URL:https://www.newgenerationwc.org/event/kingdom-connection-zoom-service-645-730-pm-est-nightly-click-here/
CATEGORIES:Community
END:VEVENT
BEGIN:VEVENT
DTSTART;TZID=UTC:20231126T100000
DTEND;TZID=UTC:20231126T120000
DTSTAMP:20260422T073604
CREATED:20231115T020300Z
LAST-MODIFIED:20231115T020300Z
UID:3267-1700992800-1701000000@www.newgenerationwc.org
SUMMARY:Sunday Morning Service @ 10 AM EST (Inperson Service) click here
DESCRIPTION:Please connect with New Generation Church on Zoom @10am EST. \nZoom ID: 727 329 7404    Zoom Passcode: 571993
URL:https://www.newgenerationwc.org/event/sunday-morning-service-10-am-est-inperson-service-click-here/
END:VEVENT
BEGIN:VEVENT
DTSTART;TZID=UTC:20231120T183000
DTEND;TZID=UTC:20231124T193000
DTSTAMP:20260422T073604
CREATED:20231115T015942Z
LAST-MODIFIED:20231115T015942Z
UID:3265-1700505000-1700854200@www.newgenerationwc.org
SUMMARY:Kingdom Connection Zoom Service Nightly @ 6:45-7:30 PM EST (Click Here)
DESCRIPTION:Please connect with New Generation Church on Zoom for Kingdom Connection. \nZoom ID: 727 329 7404    Zoom Passcode: 571993
URL:https://www.newgenerationwc.org/event/kingdom-connection-zoom-service-nightly-645-730-pm-est-click-here/
CATEGORIES:Community
END:VEVENT
BEGIN:VEVENT
DTSTART;TZID=UTC:20231119T100000
DTEND;TZID=UTC:20231119T123000
DTSTAMP:20260422T073604
CREATED:20231115T013024Z
LAST-MODIFIED:20231115T013024Z
UID:3258-1700388000-1700397000@www.newgenerationwc.org
SUMMARY:Operation Blessing Service 10 AM
DESCRIPTION:All are welcome to this year’s Operation Blessing Service. We are coming together to be a blessing to the community and to support families for the Thanksgiving Holiday.
URL:https://www.newgenerationwc.org/event/operation-blessing-service-10-am/
CATEGORIES:Special Events
END:VEVENT
BEGIN:VEVENT
DTSTART;TZID=UTC:20231113T190000
DTEND;TZID=UTC:20231117T200000
DTSTAMP:20260422T073604
CREATED:20231115T014003Z
LAST-MODIFIED:20231115T033731Z
UID:3260-1699902000-1700251200@www.newgenerationwc.org
SUMMARY:Thanksgiving ZOOM Revival  * November 13-17  @ 7-8 PM Nightly (Click Here)
DESCRIPTION:Please connect with us on Zoom for a week of Fellowship and Preaching. \nHosted by Elders  Stan and Melissa Marion \nZOOM ID: 727 329 7404     ZOOM PASSCODE: 571993
URL:https://www.newgenerationwc.org/event/thanksgiving-zoom-revival-7-8-pm-nightly/
CATEGORIES:Special Events
END:VEVENT
BEGIN:VEVENT
DTSTART;TZID=UTC:20230910T093000
DTEND;TZID=UTC:20230910T150000
DTSTAMP:20260422T073604
CREATED:20230814T214638Z
LAST-MODIFIED:20230814T214638Z
UID:3255-1694338200-1694358000@www.newgenerationwc.org
SUMMARY:COMMUNITY FELLOWSHIP SERVICE
DESCRIPTION:Community Fellowship Service \nPrayer @ 9:30 am \n  \nPraise and Worship and The Word 10-11:30 am \n  \nCommunity Fellowship Lunch after service \nFood\, Fun\, Fellowship \n 
URL:https://www.newgenerationwc.org/event/community-fellowship-service/
END:VEVENT
BEGIN:VEVENT
DTSTART;TZID=UTC:20230827T160000
DTEND;TZID=UTC:20230827T173000
DTSTAMP:20260422T073604
CREATED:20230726T053844Z
LAST-MODIFIED:20230814T212336Z
UID:3229-1693152000-1693157400@www.newgenerationwc.org
SUMMARY:PRAISE IN THE HOUSE
DESCRIPTION:PRAISE IN THE HOUSE \nA NIGHT OF PRAISING GOD WITH OUR SONGS OF JOY. \nWE LCOME THE COMMUNITY TO FELLOWSHIP WITH NEW GENERATION FOR A NIGHT OF PRAISE AND WORSHIP @ 4PM
URL:https://www.newgenerationwc.org/event/praise-in-the-house/
END:VEVENT
BEGIN:VEVENT
DTSTART;TZID=UTC:20230827T093000
DTEND;TZID=UTC:20230827T113000
DTSTAMP:20260422T073604
CREATED:20230726T053528Z
LAST-MODIFIED:20230726T053528Z
UID:3227-1693128600-1693135800@www.newgenerationwc.org
SUMMARY:Sunday Worship
DESCRIPTION:Sunday Worship \nPrayer @ 9:30 am \nPraise and Worship and The Word @ 10:00-11:30 am \nChildren Ministry \nChristian Love and fellowship
URL:https://www.newgenerationwc.org/event/sunday-worship-5/
END:VEVENT
BEGIN:VEVENT
DTSTART;TZID=UTC:20230826T103000
DTEND;TZID=UTC:20230826T133000
DTSTAMP:20260422T073604
CREATED:20230726T053246Z
LAST-MODIFIED:20230726T053246Z
UID:3225-1693045800-1693056600@www.newgenerationwc.org
SUMMARY:Community Outreach
DESCRIPTION:Canvassing the community and Prayer Walk \nWe reaching out to the Township of Dumfries with the Good News of the Bible. \nWE are praying for God;s Grace and Love be Realse in the lives of the people of Dumfries.
URL:https://www.newgenerationwc.org/event/community-outreach-2/
END:VEVENT
BEGIN:VEVENT
DTSTART;TZID=UTC:20230825T190000
DTEND;TZID=UTC:20230825T193000
DTSTAMP:20260422T073604
CREATED:20230726T052907Z
LAST-MODIFIED:20230726T052907Z
UID:3223-1692990000-1692991800@www.newgenerationwc.org
SUMMARY:Kingdom Connection
DESCRIPTION:Kingdom Connection\n\nMonday-Friday @ 6:45-7:30 PM (EST)\n\n\nConnect with us for a night of Encouragement\, Faith Building\, Receiving Insight for living in Victory.\n\nZoom ID: 727 329 7404\n\nZoom Passcode: 571993\n\nNew Generation Church\nwww.newgenerationwc.org
URL:https://www.newgenerationwc.org/event/kingdom-connection-24/
END:VEVENT
BEGIN:VEVENT
DTSTART;TZID=UTC:20230824T190000
DTEND;TZID=UTC:20230824T193000
DTSTAMP:20260422T073604
CREATED:20230726T052812Z
LAST-MODIFIED:20230726T052812Z
UID:3221-1692903600-1692905400@www.newgenerationwc.org
SUMMARY:Kingdom Connection
DESCRIPTION:Kingdom Connection\n\nMonday-Friday @ 6:45-7:30 PM (EST)\n\n\nConnect with us for a night of Encouragement\, Faith Building\, Receiving Insight for living in Victory.\n\nZoom ID: 727 329 7404\n\nZoom Passcode: 571993\n\nNew Generation Church\nwww.newgenerationwc.org
URL:https://www.newgenerationwc.org/event/kingdom-connection-23/
END:VEVENT
BEGIN:VEVENT
DTSTART;TZID=UTC:20230823T190000
DTEND;TZID=UTC:20230823T193000
DTSTAMP:20260422T073604
CREATED:20230726T052705Z
LAST-MODIFIED:20230726T052705Z
UID:3219-1692817200-1692819000@www.newgenerationwc.org
SUMMARY:Kingdom Connection
DESCRIPTION:Kingdom Connection\n\nMonday-Friday @ 6:45-7:30 PM (EST)\n\n\nConnect with us for a night of Encouragement\, Faith Building\, Receiving Insight for living in Victory.\n\nZoom ID: 727 329 7404\n\nZoom Passcode: 571993\n\nNew Generation Church\nwww.newgenerationwc.org
URL:https://www.newgenerationwc.org/event/kingdom-connection-22/
END:VEVENT
BEGIN:VEVENT
DTSTART;TZID=UTC:20230822T190000
DTEND;TZID=UTC:20230822T193000
DTSTAMP:20260422T073604
CREATED:20230726T052611Z
LAST-MODIFIED:20230726T052611Z
UID:3217-1692730800-1692732600@www.newgenerationwc.org
SUMMARY:Kingdom Connection
DESCRIPTION:Kingdom Connection\n\nMonday-Friday @ 6:45-7:30 PM (EST)\n\n\nConnect with us for a night of Encouragement\, Faith Building\, Receiving Insight for living in Victory.\n\nZoom ID: 727 329 7404\n\nZoom Passcode: 571993\n\nNew Generation Church\nwww.newgenerationwc.org
URL:https://www.newgenerationwc.org/event/kingdom-connection-21/
END:VEVENT
BEGIN:VEVENT
DTSTART;TZID=UTC:20230821T190000
DTEND;TZID=UTC:20230821T193000
DTSTAMP:20260422T073604
CREATED:20230726T052517Z
LAST-MODIFIED:20230726T052517Z
UID:3215-1692644400-1692646200@www.newgenerationwc.org
SUMMARY:Kingdom Connection
DESCRIPTION:Kingdom Connection\n\nMonday-Friday @ 6:45-7:30 PM (EST)\n\n\nConnect with us for a night of Encouragement\, Faith Building\, Receiving Insight for living in Victory.\n\nZoom ID: 727 329 7404\n\nZoom Passcode: 571993\n\nNew Generation Church\nwww.newgenerationwc.org
URL:https://www.newgenerationwc.org/event/kingdom-connection-20/
END:VEVENT
BEGIN:VEVENT
DTSTART;TZID=UTC:20230820T093000
DTEND;TZID=UTC:20230820T113000
DTSTAMP:20260422T073604
CREATED:20230726T052414Z
LAST-MODIFIED:20230726T052414Z
UID:3213-1692523800-1692531000@www.newgenerationwc.org
SUMMARY:Sunday Worship
DESCRIPTION:Sunday Worship \nPrayer @ 9:30 am \n  \nPraise and Worship and The Word @ 10:00-11:30 am \n  \nChildren Ministry \nChristian love and Felloship
URL:https://www.newgenerationwc.org/event/sunday-worship-4/
END:VEVENT
BEGIN:VEVENT
DTSTART;TZID=UTC:20230819T090000
DTEND;TZID=UTC:20230819T113000
DTSTAMP:20260422T073604
CREATED:20230726T041556Z
LAST-MODIFIED:20230726T041557Z
UID:3144-1692435600-1692444600@www.newgenerationwc.org
SUMMARY:Husband and Wife Brunch
DESCRIPTION:  \nPlease RSVP by way of: www.eventbrite.com
URL:https://www.newgenerationwc.org/event/husband-and-wife-brunch/
LOCATION:Comfort Inn\, 16931 Old Stage Road\, Dumfries\, VA\, 22026\, United States
CATEGORIES:Husband and Wife Ministry
END:VEVENT
BEGIN:VEVENT
DTSTART;TZID=UTC:20230818T190000
DTEND;TZID=UTC:20230818T193000
DTSTAMP:20260422T073604
CREATED:20230726T052159Z
LAST-MODIFIED:20230726T052159Z
UID:3211-1692385200-1692387000@www.newgenerationwc.org
SUMMARY:Kingdom Connection
DESCRIPTION:Kingdom Connection\n\nMonday-Friday @ 6:45-7:30 PM (EST)\n\n\nConnect with us for a night of Encouragement\, Faith Building\, Receiving Insight for living in Victory.\n\nZoom ID: 727 329 7404\n\nZoom Passcode: 571993\n\nNew Generation Church\nwww.newgenerationwc.org
URL:https://www.newgenerationwc.org/event/kingdom-connection-19/
END:VEVENT
BEGIN:VEVENT
DTSTART;TZID=UTC:20230817T190000
DTEND;TZID=UTC:20230817T193000
DTSTAMP:20260422T073604
CREATED:20230726T052028Z
LAST-MODIFIED:20230726T052028Z
UID:3209-1692298800-1692300600@www.newgenerationwc.org
SUMMARY:Kingdom Connection
DESCRIPTION:Kingdom Connection\n\nMonday-Friday @ 6:45-7:30 PM (EST)\n\n\nConnect with us for a night of Encouragement\, Faith Building\, Receiving Insight for living in Victory.\n\nZoom ID: 727 329 7404\n\nZoom Passcode: 571993\n\nNew Generation Church\nwww.newgenerationwc.org
URL:https://www.newgenerationwc.org/event/kingdom-connection-18/
END:VEVENT
BEGIN:VEVENT
DTSTART;TZID=UTC:20230816T190000
DTEND;TZID=UTC:20230816T193000
DTSTAMP:20260422T073604
CREATED:20230726T051928Z
LAST-MODIFIED:20230726T051928Z
UID:3207-1692212400-1692214200@www.newgenerationwc.org
SUMMARY:Kingdom Connection
DESCRIPTION:Kingdom Connection\n\nMonday-Friday @ 6:45-7:30 PM (EST)\n\n\nConnect with us for a night of Encouragement\, Faith Building\, Receiving Insight for living in Victory.\n\nZoom ID: 727 329 7404\n\nZoom Passcode: 571993\n\nNew Generation Church\nwww.newgenerationwc.org
URL:https://www.newgenerationwc.org/event/kingdom-connection-17/
END:VEVENT
BEGIN:VEVENT
DTSTART;TZID=UTC:20230815T190000
DTEND;TZID=UTC:20230815T193000
DTSTAMP:20260422T073604
CREATED:20230726T051743Z
LAST-MODIFIED:20230726T051743Z
UID:3205-1692126000-1692127800@www.newgenerationwc.org
SUMMARY:Kingdom Connection
DESCRIPTION:Kingdom Connection\n\nMonday-Friday @ 6:45-7:30 PM (EST)\n\n\nConnect with us for a night of Encouragement\, Faith Building\, Receiving Insight for living in Victory.\n\nZoom ID: 727 329 7404\n\nZoom Passcode: 571993\n\nNew Generation Church\nwww.newgenerationwc.org
URL:https://www.newgenerationwc.org/event/kingdom-connection-16/
END:VEVENT
END:VCALENDAR