BEGIN:VCALENDAR
VERSION:2.0
PRODID:-//New Generation Worship Center - ECPv6.15.17.1//NONSGML v1.0//EN
CALSCALE:GREGORIAN
METHOD:PUBLISH
X-WR-CALNAME:New Generation Worship Center
X-ORIGINAL-URL:https://www.newgenerationwc.org
X-WR-CALDESC:Events for New Generation Worship Center
REFRESH-INTERVAL;VALUE=DURATION:PT1H
X-Robots-Tag:noindex
X-PUBLISHED-TTL:PT1H
BEGIN:VTIMEZONE
TZID:UTC
BEGIN:STANDARD
TZOFFSETFROM:+0000
TZOFFSETTO:+0000
TZNAME:UTC
DTSTART:20230101T000000
END:STANDARD
END:VTIMEZONE
BEGIN:VEVENT
DTSTART;TZID=UTC:20241105T190000
DTEND;TZID=UTC:20241105T200000
DTSTAMP:20260422T021236
CREATED:20241110T040105Z
LAST-MODIFIED:20241110T040105Z
UID:3443-1730833200-1730836800@www.newgenerationwc.org
SUMMARY:No Bible Study
DESCRIPTION:
URL:https://www.newgenerationwc.org/event/no-bible-study-2/
END:VEVENT
BEGIN:VEVENT
DTSTART;TZID=UTC:20241105T190000
DTEND;TZID=UTC:20241105T200000
DTSTAMP:20260422T021236
CREATED:20241110T034420Z
LAST-MODIFIED:20241110T034420Z
UID:3432-1730833200-1730836800@www.newgenerationwc.org
SUMMARY:No Bible Study
DESCRIPTION:
URL:https://www.newgenerationwc.org/event/no-bible-study/
END:VEVENT
BEGIN:VEVENT
DTSTART;TZID=UTC:20241103T100000
DTEND;TZID=UTC:20241103T120000
DTSTAMP:20260422T021236
CREATED:20241110T040009Z
LAST-MODIFIED:20241110T040009Z
UID:3441-1730628000-1730635200@www.newgenerationwc.org
SUMMARY:Worship and Communion Service
DESCRIPTION:
URL:https://www.newgenerationwc.org/event/worship-and-communion-service/
END:VEVENT
BEGIN:VEVENT
DTSTART;TZID=UTC:20241103T100000
DTEND;TZID=UTC:20241103T120000
DTSTAMP:20260422T021236
CREATED:20241110T034541Z
LAST-MODIFIED:20241110T034738Z
UID:3434-1730628000-1730635200@www.newgenerationwc.org
SUMMARY:Worship and Communion
DESCRIPTION:
URL:https://www.newgenerationwc.org/event/worship-and-communion/
END:VEVENT
BEGIN:VEVENT
DTSTART;TZID=UTC:20241102T120000
DTEND;TZID=UTC:20241102T140000
DTSTAMP:20260422T021236
CREATED:20241110T035915Z
LAST-MODIFIED:20241110T035915Z
UID:3439-1730548800-1730556000@www.newgenerationwc.org
SUMMARY:Women Fellowship
DESCRIPTION:
URL:https://www.newgenerationwc.org/event/women-fellowship-2/
END:VEVENT
BEGIN:VEVENT
DTSTART;TZID=UTC:20241102T120000
DTEND;TZID=UTC:20241102T140000
DTSTAMP:20260422T021236
CREATED:20241110T033913Z
LAST-MODIFIED:20241110T033913Z
UID:3427-1730548800-1730556000@www.newgenerationwc.org
SUMMARY:Women Fellowship
DESCRIPTION:The women of New Generation Church invite you to fellowship this Saturday.
URL:https://www.newgenerationwc.org/event/women-fellowship/
END:VEVENT
BEGIN:VEVENT
DTSTART;TZID=UTC:20241101T200000
DTEND;TZID=UTC:20241101T210000
DTSTAMP:20260422T021236
CREATED:20241110T033445Z
LAST-MODIFIED:20241110T033506Z
UID:3425-1730491200-1730494800@www.newgenerationwc.org
SUMMARY:Friday Night Prayer
DESCRIPTION:Join us for a night of prayer and fellowship.
URL:https://www.newgenerationwc.org/event/friday-night-prayer/
END:VEVENT
BEGIN:VEVENT
DTSTART;TZID=UTC:20240821T193000
DTEND;TZID=UTC:20240823T213000
DTSTAMP:20260422T021236
CREATED:20240801T212044Z
LAST-MODIFIED:20240802T013356Z
UID:3382-1724268600-1724448600@www.newgenerationwc.org
SUMMARY:IMPACT 2024 THREE NIGHTS SERVICE
DESCRIPTION:Impact 2024 Services  (Click the Link) \n  \nIMPACT 2024 SERVICES \nHELPING BELIEVERS TO GROW IN THEIR FAITH!
URL:https://www.newgenerationwc.org/event/impact-2024-services/
END:VEVENT
BEGIN:VEVENT
DTSTART;TZID=UTC:20240819T183000
DTEND;TZID=UTC:20240820T193000
DTSTAMP:20260422T021236
CREATED:20240802T005550Z
LAST-MODIFIED:20240802T005550Z
UID:3379-1724092200-1724182200@www.newgenerationwc.org
SUMMARY:Kingdom Connection on Zoom
DESCRIPTION:Zoom Information Below: \nZoom ID: 272 329 7404 \nZoom Passcode: 571993
URL:https://www.newgenerationwc.org/event/kingdom-connection-on-zoom-7/
END:VEVENT
BEGIN:VEVENT
DTSTART;TZID=UTC:20240816T200000
DTEND;TZID=UTC:20240816T220000
DTSTAMP:20260422T021236
CREATED:20240802T004106Z
LAST-MODIFIED:20240802T004106Z
UID:3373-1723838400-1723845600@www.newgenerationwc.org
SUMMARY:New Generation Church / Impact Prayer Service
DESCRIPTION:We are coming together for a time of prayer.
URL:https://www.newgenerationwc.org/event/new-generation-church-impact-prayer-service/
END:VEVENT
BEGIN:VEVENT
DTSTART;TZID=UTC:20240816T063000
DTEND;TZID=UTC:20240816T180000
DTSTAMP:20260422T021236
CREATED:20240802T004504Z
LAST-MODIFIED:20240802T004504Z
UID:3375-1723789800-1723831200@www.newgenerationwc.org
SUMMARY:A Day of Fasting and Prayer
DESCRIPTION:New Generation Church Impact Fasting and Prayer.
URL:https://www.newgenerationwc.org/event/a-day-of-fasting-and-prayer/
END:VEVENT
BEGIN:VEVENT
DTSTART;TZID=UTC:20240813T190000
DTEND;TZID=UTC:20240813T200000
DTSTAMP:20260422T021236
CREATED:20240802T012219Z
LAST-MODIFIED:20240802T012219Z
UID:3391-1723575600-1723579200@www.newgenerationwc.org
SUMMARY:Bible Study
DESCRIPTION:
URL:https://www.newgenerationwc.org/event/bible-study-2/
END:VEVENT
BEGIN:VEVENT
DTSTART;TZID=UTC:20240812T183000
DTEND;TZID=UTC:20240815T193000
DTSTAMP:20260422T021236
CREATED:20240802T211714Z
LAST-MODIFIED:20240802T011828Z
UID:3387-1723487400-1723750200@www.newgenerationwc.org
SUMMARY:Kingdom Connection on Zoom
DESCRIPTION:Zoom Information Below: \nZoom ID: 272 329 7404 \nZoom Passcode: 571993
URL:https://www.newgenerationwc.org/event/kingdom-connection-on-zoom-8/
END:VEVENT
BEGIN:VEVENT
DTSTART;TZID=UTC:20240811T100000
DTEND;TZID=UTC:20240811T120000
DTSTAMP:20260422T021236
CREATED:20240801T215351Z
LAST-MODIFIED:20240802T015519Z
UID:3398-1723370400-1723377600@www.newgenerationwc.org
SUMMARY:PRAISE IN THE HOUSE SERVICE @10AM
DESCRIPTION:Praise in the House (Click the link)
URL:https://www.newgenerationwc.org/event/praise-in-the-house-service/
CATEGORIES:Special Events
END:VEVENT
BEGIN:VEVENT
DTSTART;TZID=UTC:20240806T190000
DTEND;TZID=UTC:20240806T200000
DTSTAMP:20260422T021236
CREATED:20240802T002849Z
LAST-MODIFIED:20240802T002849Z
UID:3367-1722970800-1722974400@www.newgenerationwc.org
SUMMARY:Bible Study
DESCRIPTION:
URL:https://www.newgenerationwc.org/event/bible-study/
END:VEVENT
BEGIN:VEVENT
DTSTART;TZID=UTC:20240805T183000
DTEND;TZID=UTC:20240809T193000
DTSTAMP:20260422T021236
CREATED:20240802T003458Z
LAST-MODIFIED:20240802T003458Z
UID:3369-1722882600-1723231800@www.newgenerationwc.org
SUMMARY:Kingdom Connection on Zoom
DESCRIPTION:Zoom Information Below: \nZoom ID: 727 329 7404 \nZoom Passcode: 571993
URL:https://www.newgenerationwc.org/event/kingdom-connection-on-zoom-6/
END:VEVENT
BEGIN:VEVENT
DTSTART;TZID=UTC:20240804T100000
DTEND;TZID=UTC:20240804T120000
DTSTAMP:20260422T021236
CREATED:20240802T002745Z
LAST-MODIFIED:20240802T002746Z
UID:3362-1722765600-1722772800@www.newgenerationwc.org
SUMMARY:New Generation Church/ Family and Friends Day
DESCRIPTION:Family and Friends Day (Click the link)
URL:https://www.newgenerationwc.org/event/new-generation-church-family-and-friends-day/
END:VEVENT
BEGIN:VEVENT
DTSTART;TZID=UTC:20240803T130000
DTEND;TZID=UTC:20240803T160000
DTSTAMP:20260422T021236
CREATED:20240802T001900Z
LAST-MODIFIED:20240802T002121Z
UID:3357-1722690000-1722700800@www.newgenerationwc.org
SUMMARY:New Generation Church (Cookout)
DESCRIPTION:Churchcook ( Click the link)
URL:https://www.newgenerationwc.org/event/new-generation-church-cookout/
END:VEVENT
BEGIN:VEVENT
DTSTART;TZID=UTC:20240617T183000
DTEND;TZID=UTC:20240621T193000
DTSTAMP:20260422T021236
CREATED:20231115T032736Z
LAST-MODIFIED:20240604T035814Z
UID:3294-1718649000-1718998200@www.newgenerationwc.org
SUMMARY:Kingdom Connection Zoom Service @ 6:45-7:30 PM EST (Click Here)
DESCRIPTION:Please connect with New Generation Church on Zoom for Kingdom Connection. \nZoom ID: 727 329 7404    Zoom Passcode: 571993
URL:https://www.newgenerationwc.org/event/kingdom-connection-zoom-service-645-730-pm-est-click-here/
CATEGORIES:Community
END:VEVENT
BEGIN:VEVENT
DTSTART;TZID=UTC:20240616T100000
DTEND;TZID=UTC:20240616T120000
DTSTAMP:20260422T021236
CREATED:20240604T031721Z
LAST-MODIFIED:20240604T033022Z
UID:3350-1718532000-1718539200@www.newgenerationwc.org
SUMMARY:Father's Day Service June 16th @ 10 AM
DESCRIPTION:
URL:https://www.newgenerationwc.org/event/fathers-day-service-june-16th-10-am/
END:VEVENT
BEGIN:VEVENT
DTSTART;TZID=UTC:20240611T183000
DTEND;TZID=UTC:20240615T193000
DTSTAMP:20260422T021236
CREATED:20231115T033409Z
LAST-MODIFIED:20240604T035330Z
UID:3300-1718130600-1718479800@www.newgenerationwc.org
SUMMARY:Kingdom Connection Zoom Service @ 6:45-7:30 PM EST Nightly
DESCRIPTION:Please connect with New Generation Church on Zoom for Kingdom Connection. \nZoom ID: 727 329 7404    Zoom Passcode: 571993
URL:https://www.newgenerationwc.org/event/kingdom-connection-zoom-service-645-730-pm-est-nightly/
END:VEVENT
BEGIN:VEVENT
DTSTART;TZID=UTC:20240610T183000
DTEND;TZID=UTC:20240610T193000
DTSTAMP:20260422T021236
CREATED:20231115T023046Z
LAST-MODIFIED:20240604T035229Z
UID:3283-1718044200-1718047800@www.newgenerationwc.org
SUMMARY:Kingdom Connection Zoom Service  Nightly @ 6:45-7:30 PM EST
DESCRIPTION:Please connect with New Generation Church on Zoom for Kingdom Connection. \nZoom ID: 727 329 7404    Zoom Passcode: 571993
URL:https://www.newgenerationwc.org/event/kingdom-connection-zoom-service-nightly-645-730-pm-est/
CATEGORIES:Community
END:VEVENT
BEGIN:VEVENT
DTSTART;TZID=UTC:20240609T160000
DTEND;TZID=UTC:20240609T180000
DTSTAMP:20260422T021236
CREATED:20240604T033205Z
LAST-MODIFIED:20240604T033205Z
UID:3348-1717948800-1717956000@www.newgenerationwc.org
SUMMARY:Brother Dan Siebert Appreciation Service
DESCRIPTION:On June 9th\, we are coming together to show our love and appreciation for Brother Dan Siebert. Dan the man 18th years of faithful service to the Body of Christ in the Music Ministry. This will be a night filled with joy and praise to the Lord Jesus Christ for all He has done.
URL:https://www.newgenerationwc.org/event/brother-dan-siebert-appreciation-service/
END:VEVENT
BEGIN:VEVENT
DTSTART;TZID=UTC:20240609T100000
DTEND;TZID=UTC:20240609T120000
DTSTAMP:20260422T021236
CREATED:20240220T195037Z
LAST-MODIFIED:20240604T033456Z
UID:3324-1717927200-1717934400@www.newgenerationwc.org
SUMMARY:Sunday Morning Worship Service
DESCRIPTION:  \nSunday Morning Worship Service @ 10 AM \n3896 Lansing Court \nDumfries\, VA 22026
URL:https://www.newgenerationwc.org/event/sunday-morning-worship-service/
END:VEVENT
BEGIN:VEVENT
DTSTART;TZID=UTC:20240607T190000
DTEND;TZID=UTC:20240607T193000
DTSTAMP:20260422T021236
CREATED:20240220T192752Z
LAST-MODIFIED:20240604T034109Z
UID:3312-1717786800-1717788600@www.newgenerationwc.org
SUMMARY:Kingdom Connection Monday-Friday
DESCRIPTION:KINGDOM CONNECTION MONDAY-FRIDAY @ 7:00 – 7:30 PM \nTHE ZOOM ID: 727 329 7404                                  THE ZOOM PASSCODE: 571993
URL:https://www.newgenerationwc.org/event/3312/
END:VEVENT
BEGIN:VEVENT
DTSTART;TZID=UTC:20240606T190000
DTEND;TZID=UTC:20240606T193000
DTSTAMP:20260422T021236
CREATED:20240220T193748Z
LAST-MODIFIED:20240604T033913Z
UID:3316-1717700400-1717702200@www.newgenerationwc.org
SUMMARY:KINGDOM CONNECTION MONDAY-FRIDAY
DESCRIPTION:KINGDOM CONNECTION MONDAY-FRIDAY @ 7:00 – 7:30 PM \nTHE ZOOM ID: 727 329 7404                                  THE ZOOM PASSCODE: 571993
URL:https://www.newgenerationwc.org/event/kingdom-connection-monday-friday/
END:VEVENT
BEGIN:VEVENT
DTSTART;TZID=UTC:20240605T190000
DTEND;TZID=UTC:20240605T193000
DTSTAMP:20260422T021236
CREATED:20240220T193944Z
LAST-MODIFIED:20240604T033722Z
UID:3318-1717614000-1717615800@www.newgenerationwc.org
SUMMARY:KINGDOM CONNECTION MONDAY-FRIDAY
DESCRIPTION:KINGDOM CONNECTION MONDAY-FRIDAY @ 7:00 – 7:30 PM \nTHE ZOOM ID: 727 329 7404                                  THE ZOOM PASSCODE: 571993
URL:https://www.newgenerationwc.org/event/kingdom-connection-monday-friday-2/
END:VEVENT
BEGIN:VEVENT
DTSTART;TZID=UTC:20240604T190000
DTEND;TZID=UTC:20240604T193000
DTSTAMP:20260422T021236
CREATED:20240220T194310Z
LAST-MODIFIED:20240604T033611Z
UID:3320-1717527600-1717529400@www.newgenerationwc.org
SUMMARY:KINGDOM CONNECTION MONDAY-FRIDAY
DESCRIPTION:KINGDOM CONNECTION MONDAY-FRIDAY @ 7:00- 7:30 PM \nZoom ID: 727 329 7404                    Passcode: 571993
URL:https://www.newgenerationwc.org/event/kingdom-connection-monday-friday-3/
END:VEVENT
BEGIN:VEVENT
DTSTART;TZID=UTC:20240603T183000
DTEND;TZID=UTC:20240603T193000
DTSTAMP:20260422T021236
CREATED:20240418T190415Z
LAST-MODIFIED:20240604T033401Z
UID:3344-1717439400-1717443000@www.newgenerationwc.org
SUMMARY:Kingdom Connection on Zoom
DESCRIPTION:New Generation Church \nKingdom Connection Program on Zoom \nTime: 6:45- 7:30 PM \nZoom ID: 727 329 7404 \nZoom Passcode: 571993
URL:https://www.newgenerationwc.org/event/kingdom-connection-on-zoom-5/
END:VEVENT
BEGIN:VEVENT
DTSTART;TZID=UTC:20240420T120000
DTEND;TZID=UTC:20240420T140000
DTSTAMP:20260422T021236
CREATED:20240418T182041Z
LAST-MODIFIED:20240418T182338Z
UID:3331-1713614400-1713621600@www.newgenerationwc.org
SUMMARY:Church Outreach
DESCRIPTION:Canvassing the Community Church Outreach:
URL:https://www.newgenerationwc.org/event/3331/
END:VEVENT
END:VCALENDAR