BEGIN:VCALENDAR
VERSION:2.0
PRODID:-//New Generation Worship Center - ECPv6.15.17.1//NONSGML v1.0//EN
CALSCALE:GREGORIAN
METHOD:PUBLISH
X-WR-CALNAME:New Generation Worship Center
X-ORIGINAL-URL:https://www.newgenerationwc.org
X-WR-CALDESC:Events for New Generation Worship Center
REFRESH-INTERVAL;VALUE=DURATION:PT1H
X-Robots-Tag:noindex
X-PUBLISHED-TTL:PT1H
BEGIN:VTIMEZONE
TZID:UTC
BEGIN:STANDARD
TZOFFSETFROM:+0000
TZOFFSETTO:+0000
TZNAME:UTC
DTSTART:20230101T000000
END:STANDARD
END:VTIMEZONE
BEGIN:VEVENT
DTSTART;TZID=UTC:20241215T160000
DTEND;TZID=UTC:20241215T183000
DTSTAMP:20260422T015038
CREATED:20241110T054113Z
LAST-MODIFIED:20241110T054319Z
UID:3464-1734278400-1734287400@www.newgenerationwc.org
SUMMARY:Christmas Worship Service
DESCRIPTION:
URL:https://www.newgenerationwc.org/event/developing-my-faith-and-worship-service/
END:VEVENT
BEGIN:VEVENT
DTSTART;TZID=UTC:20241214T100000
DTEND;TZID=UTC:20241214T113000
DTSTAMP:20260422T015038
CREATED:20241214T052758Z
LAST-MODIFIED:20241214T052758Z
UID:3527-1734170400-1734175800@www.newgenerationwc.org
SUMMARY:Transition Team Meeting on Zoom
DESCRIPTION:
URL:https://www.newgenerationwc.org/event/transition-team-meeting-on-zoom/
END:VEVENT
BEGIN:VEVENT
DTSTART;TZID=UTC:20241210T190000
DTEND;TZID=UTC:20241210T200000
DTSTAMP:20260422T015038
CREATED:20241110T060012Z
LAST-MODIFIED:20241110T060012Z
UID:3473-1733857200-1733860800@www.newgenerationwc.org
SUMMARY:Bible Study
DESCRIPTION:
URL:https://www.newgenerationwc.org/event/bible-study-3/
END:VEVENT
BEGIN:VEVENT
DTSTART;TZID=UTC:20241209T183000
DTEND;TZID=UTC:20241213T193000
DTSTAMP:20260422T015038
CREATED:20241110T071012Z
LAST-MODIFIED:20241110T071012Z
UID:3498-1733769000-1734118200@www.newgenerationwc.org
SUMMARY:Kingdom Connection on Zoom
DESCRIPTION:Zoom ID 727 329 7404 \nZoom Passcode: 571993
URL:https://www.newgenerationwc.org/event/kingdom-connection-on-zoom-12/
END:VEVENT
BEGIN:VEVENT
DTSTART;TZID=UTC:20241208T100000
DTEND;TZID=UTC:20241208T120000
DTSTAMP:20260422T015038
CREATED:20241110T071600Z
LAST-MODIFIED:20241110T071600Z
UID:3506-1733652000-1733659200@www.newgenerationwc.org
SUMMARY:Worship Service
DESCRIPTION:
URL:https://www.newgenerationwc.org/event/worship-service-4/
END:VEVENT
BEGIN:VEVENT
DTSTART;TZID=UTC:20241206T200000
DTEND;TZID=UTC:20241206T210000
DTSTAMP:20260422T015038
CREATED:20241110T051832Z
LAST-MODIFIED:20241110T051832Z
UID:3460-1733515200-1733518800@www.newgenerationwc.org
SUMMARY:Friday Night Prayer Service
DESCRIPTION:
URL:https://www.newgenerationwc.org/event/friday-night-prayer-service/
END:VEVENT
BEGIN:VEVENT
DTSTART;TZID=UTC:20241203T190000
DTEND;TZID=UTC:20241203T200000
DTSTAMP:20260422T015038
CREATED:20241110T055906Z
LAST-MODIFIED:20241110T055906Z
UID:3471-1733252400-1733256000@www.newgenerationwc.org
SUMMARY:Tuesady Night Bible Study
DESCRIPTION:
URL:https://www.newgenerationwc.org/event/tuesady-night-bible-study/
END:VEVENT
BEGIN:VEVENT
DTSTART;TZID=UTC:20241202T183000
DTEND;TZID=UTC:20241206T193000
DTSTAMP:20260422T015038
CREATED:20241110T070830Z
LAST-MODIFIED:20241110T070830Z
UID:3496-1733164200-1733513400@www.newgenerationwc.org
SUMMARY:Kingdom Connection on Zoom
DESCRIPTION:Zoom ID 727 329 7404 \nZoom Passcode: 571993
URL:https://www.newgenerationwc.org/event/kingdom-connection-on-zoom-11/
END:VEVENT
BEGIN:VEVENT
DTSTART;TZID=UTC:20241201T080000
DTEND;TZID=UTC:20241201T120000
DTSTAMP:20260422T015038
CREATED:20241110T051639Z
LAST-MODIFIED:20241110T051639Z
UID:3458-1733040000-1733054400@www.newgenerationwc.org
SUMMARY:Early Word\, Worship and Communion Service
DESCRIPTION:
URL:https://www.newgenerationwc.org/event/early-word-worship-and-communion-service/
END:VEVENT
BEGIN:VEVENT
DTSTART;TZID=UTC:20241126T190000
DTEND;TZID=UTC:20241126T200000
DTSTAMP:20260422T015038
CREATED:20241110T041828Z
LAST-MODIFIED:20241110T041948Z
UID:3453-1732647600-1732651200@www.newgenerationwc.org
SUMMARY:Tuesday Night Bible Study
DESCRIPTION:
URL:https://www.newgenerationwc.org/event/tuesday-night-bible-study-2/
END:VEVENT
BEGIN:VEVENT
DTSTART;TZID=UTC:20241125T183000
DTEND;TZID=UTC:20241129T190000
DTSTAMP:20260422T015038
CREATED:20241110T070709Z
LAST-MODIFIED:20241110T070709Z
UID:3494-1732559400-1732906800@www.newgenerationwc.org
SUMMARY:Kingdom Connection on Zoom
DESCRIPTION:Zoom ID 727 329 7404 \nZoom Passcode: 571993
URL:https://www.newgenerationwc.org/event/kingdom-connection-on-zoom-10/
END:VEVENT
BEGIN:VEVENT
DTSTART;TZID=UTC:20241124T100000
DTEND;TZID=UTC:20241124T120000
DTSTAMP:20260422T015038
CREATED:20241110T042158Z
LAST-MODIFIED:20241110T042158Z
UID:3455-1732442400-1732449600@www.newgenerationwc.org
SUMMARY:Worship Service/ Operation Blessing
DESCRIPTION:
URL:https://www.newgenerationwc.org/event/worship-service-operation-blessing/
END:VEVENT
BEGIN:VEVENT
DTSTART;TZID=UTC:20241123T103000
DTEND;TZID=UTC:20241123T133000
DTSTAMP:20260422T015038
CREATED:20241110T040839Z
LAST-MODIFIED:20241110T040839Z
UID:3449-1732357800-1732368600@www.newgenerationwc.org
SUMMARY:Transition Team and Leadership Meeting
DESCRIPTION:
URL:https://www.newgenerationwc.org/event/transition-team-and-leadership-meeting/
END:VEVENT
BEGIN:VEVENT
DTSTART;TZID=UTC:20241119T190000
DTEND;TZID=UTC:20241119T200000
DTSTAMP:20260422T015038
CREATED:20241110T041725Z
LAST-MODIFIED:20241110T041725Z
UID:3451-1732042800-1732046400@www.newgenerationwc.org
SUMMARY:Tuesday Night Bible Study
DESCRIPTION:
URL:https://www.newgenerationwc.org/event/tuesday-night-bible-study/
END:VEVENT
BEGIN:VEVENT
DTSTART;TZID=UTC:20241118T183000
DTEND;TZID=UTC:20241122T193000
DTSTAMP:20260422T015038
CREATED:20241110T070600Z
LAST-MODIFIED:20241110T070600Z
UID:3492-1731954600-1732303800@www.newgenerationwc.org
SUMMARY:Kingdom Connection on Zoom
DESCRIPTION:Zoom ID 727 329 7404 \nZoom Passcode: 571993
URL:https://www.newgenerationwc.org/event/kingdom-connection-on-zoom-9/
END:VEVENT
BEGIN:VEVENT
DTSTART;TZID=UTC:20241117T083000
DTEND;TZID=UTC:20241117T120000
DTSTAMP:20260422T015038
CREATED:20241110T040702Z
LAST-MODIFIED:20241110T040702Z
UID:3447-1731832200-1731844800@www.newgenerationwc.org
SUMMARY:Developing My Faith Class and Worship Service
DESCRIPTION:
URL:https://www.newgenerationwc.org/event/developing-my-faith-class-and-worship-service/
END:VEVENT
BEGIN:VEVENT
DTSTART;TZID=UTC:20241112T190000
DTEND;TZID=UTC:20241112T200000
DTSTAMP:20260422T015038
CREATED:20241110T060952Z
LAST-MODIFIED:20241110T060952Z
UID:3482-1731438000-1731441600@www.newgenerationwc.org
SUMMARY:Bible Study
DESCRIPTION:
URL:https://www.newgenerationwc.org/event/bible-study-6/
END:VEVENT
BEGIN:VEVENT
DTSTART;TZID=UTC:20241111T183000
DTEND;TZID=UTC:20241115T193000
DTSTAMP:20260422T015038
CREATED:20241110T062306Z
LAST-MODIFIED:20241110T070404Z
UID:3488-1731349800-1731699000@www.newgenerationwc.org
SUMMARY:Kingdom Connection on Zoom
DESCRIPTION:Zoom ID 7273297404 \nZoom Pass Code: 571993
URL:https://www.newgenerationwc.org/event/worship-service-3/
END:VEVENT
BEGIN:VEVENT
DTSTART;TZID=UTC:20241110T100000
DTEND;TZID=UTC:20241110T120000
DTSTAMP:20260422T015038
CREATED:20241110T040423Z
LAST-MODIFIED:20241110T040423Z
UID:3445-1731232800-1731240000@www.newgenerationwc.org
SUMMARY:Worship Service
DESCRIPTION:
URL:https://www.newgenerationwc.org/event/worship-service/
END:VEVENT
BEGIN:VEVENT
DTSTART;TZID=UTC:20241110T083000
DTEND;TZID=UTC:20241110T093000
DTSTAMP:20260422T015038
CREATED:20241110T034304Z
LAST-MODIFIED:20241110T034304Z
UID:3429-1731227400-1731231000@www.newgenerationwc.org
SUMMARY:Early Word in the Church Fellowship Center
DESCRIPTION:Pastor Davis is teaching on Spiritual Leadership
URL:https://www.newgenerationwc.org/event/early-word-in-the-church-fellowship-center/
END:VEVENT
BEGIN:VEVENT
DTSTART;TZID=UTC:20241110T080000
DTEND;TZID=UTC:20241110T170000
DTSTAMP:20260422T015038
CREATED:20241110T035123Z
LAST-MODIFIED:20241110T035123Z
UID:3436-1731225600-1731258000@www.newgenerationwc.org
SUMMARY:Developing My Faith Class in the Church Fellowship Center
DESCRIPTION:
URL:https://www.newgenerationwc.org/event/developing-my-faith-class-in-the-church-fellowship-center/
END:VEVENT
BEGIN:VEVENT
DTSTART;TZID=UTC:20241105T190000
DTEND;TZID=UTC:20241105T200000
DTSTAMP:20260422T015038
CREATED:20241110T040105Z
LAST-MODIFIED:20241110T040105Z
UID:3443-1730833200-1730836800@www.newgenerationwc.org
SUMMARY:No Bible Study
DESCRIPTION:
URL:https://www.newgenerationwc.org/event/no-bible-study-2/
END:VEVENT
BEGIN:VEVENT
DTSTART;TZID=UTC:20241105T190000
DTEND;TZID=UTC:20241105T200000
DTSTAMP:20260422T015038
CREATED:20241110T034420Z
LAST-MODIFIED:20241110T034420Z
UID:3432-1730833200-1730836800@www.newgenerationwc.org
SUMMARY:No Bible Study
DESCRIPTION:
URL:https://www.newgenerationwc.org/event/no-bible-study/
END:VEVENT
BEGIN:VEVENT
DTSTART;TZID=UTC:20241103T100000
DTEND;TZID=UTC:20241103T120000
DTSTAMP:20260422T015038
CREATED:20241110T040009Z
LAST-MODIFIED:20241110T040009Z
UID:3441-1730628000-1730635200@www.newgenerationwc.org
SUMMARY:Worship and Communion Service
DESCRIPTION:
URL:https://www.newgenerationwc.org/event/worship-and-communion-service/
END:VEVENT
BEGIN:VEVENT
DTSTART;TZID=UTC:20241103T100000
DTEND;TZID=UTC:20241103T120000
DTSTAMP:20260422T015038
CREATED:20241110T034541Z
LAST-MODIFIED:20241110T034738Z
UID:3434-1730628000-1730635200@www.newgenerationwc.org
SUMMARY:Worship and Communion
DESCRIPTION:
URL:https://www.newgenerationwc.org/event/worship-and-communion/
END:VEVENT
BEGIN:VEVENT
DTSTART;TZID=UTC:20241102T120000
DTEND;TZID=UTC:20241102T140000
DTSTAMP:20260422T015038
CREATED:20241110T035915Z
LAST-MODIFIED:20241110T035915Z
UID:3439-1730548800-1730556000@www.newgenerationwc.org
SUMMARY:Women Fellowship
DESCRIPTION:
URL:https://www.newgenerationwc.org/event/women-fellowship-2/
END:VEVENT
BEGIN:VEVENT
DTSTART;TZID=UTC:20241102T120000
DTEND;TZID=UTC:20241102T140000
DTSTAMP:20260422T015038
CREATED:20241110T033913Z
LAST-MODIFIED:20241110T033913Z
UID:3427-1730548800-1730556000@www.newgenerationwc.org
SUMMARY:Women Fellowship
DESCRIPTION:The women of New Generation Church invite you to fellowship this Saturday.
URL:https://www.newgenerationwc.org/event/women-fellowship/
END:VEVENT
BEGIN:VEVENT
DTSTART;TZID=UTC:20241101T200000
DTEND;TZID=UTC:20241101T210000
DTSTAMP:20260422T015038
CREATED:20241110T033445Z
LAST-MODIFIED:20241110T033506Z
UID:3425-1730491200-1730494800@www.newgenerationwc.org
SUMMARY:Friday Night Prayer
DESCRIPTION:Join us for a night of prayer and fellowship.
URL:https://www.newgenerationwc.org/event/friday-night-prayer/
END:VEVENT
BEGIN:VEVENT
DTSTART;TZID=UTC:20240821T193000
DTEND;TZID=UTC:20240823T213000
DTSTAMP:20260422T015038
CREATED:20240801T212044Z
LAST-MODIFIED:20240802T013356Z
UID:3382-1724268600-1724448600@www.newgenerationwc.org
SUMMARY:IMPACT 2024 THREE NIGHTS SERVICE
DESCRIPTION:Impact 2024 Services  (Click the Link) \n  \nIMPACT 2024 SERVICES \nHELPING BELIEVERS TO GROW IN THEIR FAITH!
URL:https://www.newgenerationwc.org/event/impact-2024-services/
END:VEVENT
BEGIN:VEVENT
DTSTART;TZID=UTC:20240819T183000
DTEND;TZID=UTC:20240820T193000
DTSTAMP:20260422T015038
CREATED:20240802T005550Z
LAST-MODIFIED:20240802T005550Z
UID:3379-1724092200-1724182200@www.newgenerationwc.org
SUMMARY:Kingdom Connection on Zoom
DESCRIPTION:Zoom Information Below: \nZoom ID: 272 329 7404 \nZoom Passcode: 571993
URL:https://www.newgenerationwc.org/event/kingdom-connection-on-zoom-7/
END:VEVENT
END:VCALENDAR