BEGIN:VCALENDAR
VERSION:2.0
PRODID:-//New Generation Worship Center - ECPv6.15.17.1//NONSGML v1.0//EN
CALSCALE:GREGORIAN
METHOD:PUBLISH
X-WR-CALNAME:New Generation Worship Center
X-ORIGINAL-URL:https://www.newgenerationwc.org
X-WR-CALDESC:Events for New Generation Worship Center
REFRESH-INTERVAL;VALUE=DURATION:PT1H
X-Robots-Tag:noindex
X-PUBLISHED-TTL:PT1H
BEGIN:VTIMEZONE
TZID:UTC
BEGIN:STANDARD
TZOFFSETFROM:+0000
TZOFFSETTO:+0000
TZNAME:UTC
DTSTART:20220101T000000
END:STANDARD
END:VTIMEZONE
BEGIN:VEVENT
DTSTART;TZID=UTC:20230814T190000
DTEND;TZID=UTC:20230814T193000
DTSTAMP:20260422T222403
CREATED:20230726T051646Z
LAST-MODIFIED:20230726T051646Z
UID:3203-1692039600-1692041400@www.newgenerationwc.org
SUMMARY:Kingdom Connection
DESCRIPTION:Kingdom Connection\n\nMonday-Friday @ 6:45-7:30 PM (EST)\n\n\nConnect with us for a night of Encouragement\, Faith Building\, Receiving Insight for living in Victory.\n\nZoom ID: 727 329 7404\n\nZoom Passcode: 571993\n\nNew Generation Church\nwww.newgenerationwc.org
URL:https://www.newgenerationwc.org/event/kingdom-connection-15/
END:VEVENT
BEGIN:VEVENT
DTSTART;TZID=UTC:20230813T093000
DTEND;TZID=UTC:20230813T113000
DTSTAMP:20260422T222403
CREATED:20230726T051548Z
LAST-MODIFIED:20230726T051548Z
UID:3201-1691919000-1691926200@www.newgenerationwc.org
SUMMARY:Sunday Worship
DESCRIPTION:Sunday Worship \nPrayer @ 9:30 am \nPrasise and Worship and The Word 10:00 -11:30 am \nChildren Ministry \nChristian Love and Fellowship
URL:https://www.newgenerationwc.org/event/sunday-worship-3/
END:VEVENT
BEGIN:VEVENT
DTSTART;TZID=UTC:20230812T103000
DTEND;TZID=UTC:20230812T133000
DTSTAMP:20260422T222403
CREATED:20230726T051336Z
LAST-MODIFIED:20230726T051336Z
UID:3199-1691836200-1691847000@www.newgenerationwc.org
SUMMARY:Community Outreach
DESCRIPTION:Canvassing the community and Prayer Walk. \nJoin New Generation from 10:30 am- 1:30pm as we reachout to the Dummfries community. \nSharing the Word and Praying for the people of Dumfries for God’s Grace to be Relase within the Township of Dumfries.
URL:https://www.newgenerationwc.org/event/community-outreach/
END:VEVENT
BEGIN:VEVENT
DTSTART;TZID=UTC:20230811T190000
DTEND;TZID=UTC:20230811T193000
DTSTAMP:20260422T222403
CREATED:20230726T050806Z
LAST-MODIFIED:20230726T050806Z
UID:3197-1691780400-1691782200@www.newgenerationwc.org
SUMMARY:Kingdom Connection
DESCRIPTION:Kingdom Connection\n\nMonday-Friday @ 6:45-7:30 PM (EST)\n\n\nConnect with us for a night of Encouragement\, Faith Building\, Receiving Insight for living in Victory.\n\nZoom ID: 727 329 7404\n\nZoom Passcode: 571993\n\nNew Generation Church\nwww.newgenerationwc.org
URL:https://www.newgenerationwc.org/event/kingdom-connection-14/
END:VEVENT
BEGIN:VEVENT
DTSTART;TZID=UTC:20230810T190000
DTEND;TZID=UTC:20230810T193000
DTSTAMP:20260422T222403
CREATED:20230726T050639Z
LAST-MODIFIED:20230726T050639Z
UID:3195-1691694000-1691695800@www.newgenerationwc.org
SUMMARY:Kingdom Connection
DESCRIPTION:Kingdom Connection\n\nMonday-Friday @ 6:45-7:30 PM (EST)\n\n\nConnect with us for a night of Encouragement\, Faith Building\, Receiving Insight for living in Victory.\n\nZoom ID: 727 329 7404\n\nZoom Passcode: 571993\n\nNew Generation Church\nwww.newgenerationwc.org
URL:https://www.newgenerationwc.org/event/kingdom-connection-13/
END:VEVENT
BEGIN:VEVENT
DTSTART;TZID=UTC:20230810T190000
DTEND;TZID=UTC:20230810T193000
DTSTAMP:20260422T222403
CREATED:20230726T050520Z
LAST-MODIFIED:20230726T050520Z
UID:3193-1691694000-1691695800@www.newgenerationwc.org
SUMMARY:Kingdom Connection
DESCRIPTION:Kingdom Connection\n\nMonday-Friday @ 6:45-7:30 PM (EST)\n\n\nConnect with us for a night of Encouragement\, Faith Building\, Receiving Insight for living in Victory.\n\nZoom ID: 727 329 7404\n\nZoom Passcode: 571993\n\nNew Generation Church\nwww.newgenerationwc.org
URL:https://www.newgenerationwc.org/event/kingdom-connection-12/
END:VEVENT
BEGIN:VEVENT
DTSTART;TZID=UTC:20230809T190000
DTEND;TZID=UTC:20230809T193000
DTSTAMP:20260422T222403
CREATED:20230726T050404Z
LAST-MODIFIED:20230726T050404Z
UID:3191-1691607600-1691609400@www.newgenerationwc.org
SUMMARY:Kingdom Connection
DESCRIPTION:Kingdom Connection\n\nMonday-Friday @ 6:45-7:30 PM (EST)\n\n\nConnect with us for a night of Encouragement\, Faith Building\, Receiving Insight for living in Victory.\n\nZoom ID: 727 329 7404\n\nZoom Passcode: 571993\n\nNew Generation Church\nwww.newgenerationwc.org
URL:https://www.newgenerationwc.org/event/kingdom-connection-11/
END:VEVENT
BEGIN:VEVENT
DTSTART;TZID=UTC:20230808T190000
DTEND;TZID=UTC:20230808T193000
DTSTAMP:20260422T222403
CREATED:20230726T050224Z
LAST-MODIFIED:20230726T050224Z
UID:3189-1691521200-1691523000@www.newgenerationwc.org
SUMMARY:Kingdom Connection
DESCRIPTION:Kingdom Connection\n\nMonday-Friday @ 6:45-7:30 PM (EST)\n\n\nConnect with us for a night of Encouragement\, Faith Building\, Receiving Insight for living in Victory.\n\nZoom ID: 727 329 7404\n\nZoom Passcode: 571993\n\nNew Generation Church\nwww.newgenerationwc.org
URL:https://www.newgenerationwc.org/event/kingdom-connection-10/
END:VEVENT
BEGIN:VEVENT
DTSTART;TZID=UTC:20230807T190000
DTEND;TZID=UTC:20230807T193000
DTSTAMP:20260422T222403
CREATED:20230726T050122Z
LAST-MODIFIED:20230726T050122Z
UID:3187-1691434800-1691436600@www.newgenerationwc.org
SUMMARY:Kingdom Connection
DESCRIPTION:Kingdom Connection\n\nMonday-Friday @ 6:45-7:30 PM (EST)\n\n\nConnect with us for a night of Encouragement\, Faith Building\, Receiving Insight for living in Victory.\n\nZoom ID: 727 329 7404\n\nZoom Passcode: 571993\n\nNew Generation Church\nwww.newgenerationwc.org
URL:https://www.newgenerationwc.org/event/kingdom-connection-9/
END:VEVENT
BEGIN:VEVENT
DTSTART;TZID=UTC:20230806T083000
DTEND;TZID=UTC:20230806T113000
DTSTAMP:20260422T222403
CREATED:20230726T045926Z
LAST-MODIFIED:20230726T045926Z
UID:3185-1691310600-1691321400@www.newgenerationwc.org
SUMMARY:Sunday Worship
DESCRIPTION:Sunday Worship \nEarly Word @ 8:30 am \nPrayer @ 9:30 am \nPraise & Worship\, Communion and The Word @ 10am – 11:30 am \nChildren Ministry \nChristian Love and Fellowship \nZoom Connection: 10AM-11:30 AM \nZoom ID 727 329 7404     Zoom Passcode: 571993
URL:https://www.newgenerationwc.org/event/sunday-worship-2/
END:VEVENT
BEGIN:VEVENT
DTSTART;TZID=UTC:20230805T080000
DTEND;TZID=UTC:20230805T123000
DTSTAMP:20260422T222403
CREATED:20230726T045150Z
LAST-MODIFIED:20230726T045150Z
UID:3183-1691222400-1691238600@www.newgenerationwc.org
SUMMARY:Men Ministry
DESCRIPTION:Men Ministry \nChurch repairs and fellowship\, all men are welcome to connect with us.
URL:https://www.newgenerationwc.org/event/men-ministry/
END:VEVENT
BEGIN:VEVENT
DTSTART;TZID=UTC:20230804T190000
DTEND;TZID=UTC:20230804T193000
DTSTAMP:20260422T222403
CREATED:20230726T044825Z
LAST-MODIFIED:20230726T044825Z
UID:3181-1691175600-1691177400@www.newgenerationwc.org
SUMMARY:Kingdom Connection
DESCRIPTION:Kingdom Connection\n\nMonday-Friday @ 6:45-7:30 PM (EST)\n\n\nConnect with us for a night of Encouragement\, Faith Building\, Receiving Insight for living in Victory.\n\nZoom ID: 727 329 7404\n\nZoom Passcode: 571993\n\nNew Generation Church\nwww.newgenerationwc.org
URL:https://www.newgenerationwc.org/event/kingdom-connection-8/
END:VEVENT
BEGIN:VEVENT
DTSTART;TZID=UTC:20230803T190000
DTEND;TZID=UTC:20230803T193000
DTSTAMP:20260422T222403
CREATED:20230726T044714Z
LAST-MODIFIED:20230726T044714Z
UID:3179-1691089200-1691091000@www.newgenerationwc.org
SUMMARY:Kingdom Connection
DESCRIPTION:Kingdom Connection\n\nMonday-Friday @ 6:45-7:30 PM (EST)\n\n\nConnect with us for a night of Encouragement\, Faith Building\, Receiving Insight for living in Victory.\n\nZoom ID: 727 329 7404\n\nZoom Passcode: 571993\n\nNew Generation Church\nwww.newgenerationwc.org
URL:https://www.newgenerationwc.org/event/kingdom-connection-7/
END:VEVENT
BEGIN:VEVENT
DTSTART;TZID=UTC:20230802T190000
DTEND;TZID=UTC:20230802T193000
DTSTAMP:20260422T222403
CREATED:20230726T044454Z
LAST-MODIFIED:20230726T044454Z
UID:3177-1691002800-1691004600@www.newgenerationwc.org
SUMMARY:Kingdom Connection
DESCRIPTION:Kingdom Connection\n\nMonday-Friday @ 6:45-7:30 PM (EST)\n\n\nConnect with us for a night of Encouragement\, Faith Building\, Receiving Insight for living in Victory.\n\nZoom ID: 727 329 7404\n\nZoom Passcode: 571993\n\nNew Generation Church\nwww.newgenerationwc.org
URL:https://www.newgenerationwc.org/event/kingdom-connection-6/
END:VEVENT
BEGIN:VEVENT
DTSTART;TZID=UTC:20230801T190000
DTEND;TZID=UTC:20230801T193000
DTSTAMP:20260422T222403
CREATED:20230726T044349Z
LAST-MODIFIED:20230726T044349Z
UID:3175-1690916400-1690918200@www.newgenerationwc.org
SUMMARY:Kingdom Connection
DESCRIPTION:Kingdom Connection\n\nMonday-Friday @ 6:45-7:30 PM (EST)\n\n\nConnect with us for a night of Encouragement\, Faith Building\, Receiving Insight for living in Victory.\n\nZoom ID: 727 329 7404\n\nZoom Passcode: 571993\n\nNew Generation Church\nwww.newgenerationwc.org
URL:https://www.newgenerationwc.org/event/kingdom-connection-5/
END:VEVENT
BEGIN:VEVENT
DTSTART;TZID=UTC:20230731T190000
DTEND;TZID=UTC:20230731T193000
DTSTAMP:20260422T222403
CREATED:20230726T044236Z
LAST-MODIFIED:20230726T044236Z
UID:3173-1690830000-1690831800@www.newgenerationwc.org
SUMMARY:Kingdom Connection
DESCRIPTION:Kingdom Connection\n\nMonday-Friday @ 6:45-7:30 PM (EST)\n\n\nConnect with us for a night of Encouragement\, Faith Building\, Receiving Insight for living in Victory.\n\nZoom ID: 727 329 7404\n\nZoom Passcode: 571993\n\nNew Generation Church\nwww.newgenerationwc.org
URL:https://www.newgenerationwc.org/event/kingdom-connection-4/
END:VEVENT
BEGIN:VEVENT
DTSTART;TZID=UTC:20230730T100000
DTEND;TZID=UTC:20230730T113000
DTSTAMP:20260422T222403
CREATED:20230726T044026Z
LAST-MODIFIED:20230726T044026Z
UID:3171-1690711200-1690716600@www.newgenerationwc.org
SUMMARY:Sunday Worship
DESCRIPTION:Sunday Worship @ 10AM \nPraise and Worship  and The Word \nChildren Ministry \nChristian Love and Fellowship
URL:https://www.newgenerationwc.org/event/sunday-worship/
END:VEVENT
BEGIN:VEVENT
DTSTART;TZID=UTC:20230728T190000
DTEND;TZID=UTC:20230728T193000
DTSTAMP:20260422T222403
CREATED:20230726T042955Z
LAST-MODIFIED:20230726T043028Z
UID:3163-1690570800-1690572600@www.newgenerationwc.org
SUMMARY:Kingdom Connection
DESCRIPTION:Kingdom Connection\n\nMonday-Friday @ 6:45-7:30 PM (EST)\n\n\nConnect with us for a night of Encouragement\, Faith Building\, Receiving Insight for living in Victory.\n\nZoom ID: 727 329 7404\n\nZoom Passcode: 571993\n\nNew Generation Church\nwww.newgenerationwc.org
URL:https://www.newgenerationwc.org/event/kingdom-connection/
END:VEVENT
BEGIN:VEVENT
DTSTART;TZID=UTC:20230727T190000
DTEND;TZID=UTC:20230727T193000
DTSTAMP:20260422T222403
CREATED:20230726T043655Z
LAST-MODIFIED:20230726T043655Z
UID:3169-1690484400-1690486200@www.newgenerationwc.org
SUMMARY:Kingdom Connection
DESCRIPTION:Kingdom Connection\n\nMonday-Friday @ 6:45-7:30 PM (EST)\n\n\nConnect with us for a night of Encouragement\, Faith Building\, Receiving Insight for living in Victory.\n\nZoom ID: 727 329 7404\n\nZoom Passcode: 571993\n\nNew Generation Church\nwww.newgenerationwc.org
URL:https://www.newgenerationwc.org/event/kingdom-connection-3/
END:VEVENT
BEGIN:VEVENT
DTSTART;TZID=UTC:20230726T190000
DTEND;TZID=UTC:20230726T193000
DTSTAMP:20260422T222403
CREATED:20230726T043331Z
LAST-MODIFIED:20230726T043331Z
UID:3167-1690398000-1690399800@www.newgenerationwc.org
SUMMARY:Kingdom Connection
DESCRIPTION:Kingdom Connection\n\nMonday-Friday @ 6:45-7:30 PM (EST)\n\n\nConnect with us for a night of Encouragement\, Faith Building\, Receiving Insight for living in Victory.\n\nZoom ID: 727 329 7404\n\nZoom Passcode: 571993\n\nNew Generation Church\nwww.newgenerationwc.org
URL:https://www.newgenerationwc.org/event/kingdom-connection-2/
END:VEVENT
BEGIN:VEVENT
DTSTART;TZID=UTC:20230528T100000
DTEND;TZID=UTC:20230528T133000
DTSTAMP:20260422T222403
CREATED:20150306T023511Z
LAST-MODIFIED:20230523T221945Z
UID:2243-1685268000-1685280600@www.newgenerationwc.org
SUMMARY:COMMUNITY FELLOWSHIP SERVICE
DESCRIPTION:Reaching our community with the Love of Christ is the Mission of New Generation Church.  \nEveryone is invited to join us for a time of Family Worship and Fun. (Food\, Games\, and Lots of Fun)
URL:https://www.newgenerationwc.org/event/couples-conference/
LOCATION:New Generation Worship Center\, 3896 Lansing Court\, Dumfries\, VA\, 22026\, United States
CATEGORIES:Ministry Event,Special Events
END:VEVENT
BEGIN:VEVENT
DTSTART;TZID=UTC:20230525T190000
DTEND;TZID=UTC:20230525T193000
DTSTAMP:20260422T222403
CREATED:20230524T003454Z
LAST-MODIFIED:20230524T005219Z
UID:3135-1685041200-1685043000@www.newgenerationwc.org
SUMMARY:Kingdom Connection on Zoom
DESCRIPTION:Everyone is invited to connect with New Generation for a night of Encourgement\, Faith Building\, and Receiving Insight for living in Victory. \nMonday – Friday at 7:00 PM (EST) on Zoom. \nThe Zoom ID: 727 329 7404 \nThe Zoom Passcode: 5719933 \nClick the link below: \ns/j/7273297404?https://us02web.zoom.upwd=U3VrbnN5WnVFQm4zTGR3M0ZFWVBMdz09
URL:https://www.newgenerationwc.org/event/kingdom-connection-on-zoom-2/
END:VEVENT
BEGIN:VEVENT
DTSTART;TZID=UTC:20230524T190000
DTEND;TZID=UTC:20230524T193000
DTSTAMP:20260422T222403
CREATED:20230524T155641Z
LAST-MODIFIED:20230524T155833Z
UID:3141-1684954800-1684956600@www.newgenerationwc.org
SUMMARY:KINGDOM CONNECTION on ZOOM
DESCRIPTION:Kingdom Connection On Zoom\n\nEveryone is invited to connect with New Generation for a night of Encourgement\, Faith Building\, and Receiving Insight for living in Victory.\n\n\n\nMonday – Friday at 7:00 PM (EST) on Zoom. \nThe Zoom ID: 727 329 7404 \nThe Zoom Passcode: 5719933 \n 
URL:https://www.newgenerationwc.org/event/kingdom-connection-on-zoom-4/
END:VEVENT
BEGIN:VEVENT
DTSTART;TZID=UTC:20230524T190000
DTEND;TZID=UTC:20230524T193000
DTSTAMP:20260422T222403
CREATED:20230524T155403Z
LAST-MODIFIED:20230524T155403Z
UID:3139-1684954800-1684956600@www.newgenerationwc.org
SUMMARY:KINGDOM CONNECTION on ZOOM
DESCRIPTION:Kingdom Connection On Zoom\n\nEveryone is invited to connect with New Generation for a night of Encourgement\, Faith Building\, and Receiving Insight for living in Victory.\n\n\n\nMonday – Friday at 7:00 PM (EST) on Zoom. \nThe Zoom ID: 727 329 7404 \nThe Zoom Passcode: 5719933 \n 
URL:https://www.newgenerationwc.org/event/kingdom-connection-on-zoom-3/
END:VEVENT
BEGIN:VEVENT
DTSTART;TZID=UTC:20230523T190000
DTEND;TZID=UTC:20230523T200000
DTSTAMP:20260422T222403
CREATED:20230523T223934Z
LAST-MODIFIED:20230523T223934Z
UID:3045-1684868400-1684872000@www.newgenerationwc.org
SUMMARY:Kingdom Connection On Zoom
DESCRIPTION:Everyone is invited to connect with New Generation for a night of Encourgement\, Faith Building\, and Receiving Insight for living in Victory. \nMonday – Friday at 7:00 PM (EST) on Zoom. \nThe Zoom ID: 727 329 7404 \nThe Zoom Passcode: 5719933 \n 
URL:https://www.newgenerationwc.org/event/kingdom-connection-on-zoom/
END:VEVENT
END:VCALENDAR