BEGIN:VCALENDAR
VERSION:2.0
PRODID:-//New Generation Worship Center - ECPv6.15.17.1//NONSGML v1.0//EN
CALSCALE:GREGORIAN
METHOD:PUBLISH
X-ORIGINAL-URL:https://www.newgenerationwc.org
X-WR-CALDESC:Events for New Generation Worship Center
REFRESH-INTERVAL;VALUE=DURATION:PT1H
X-Robots-Tag:noindex
X-PUBLISHED-TTL:PT1H
BEGIN:VTIMEZONE
TZID:UTC
BEGIN:STANDARD
TZOFFSETFROM:+0000
TZOFFSETTO:+0000
TZNAME:UTC
DTSTART:20220101T000000
END:STANDARD
END:VTIMEZONE
BEGIN:VEVENT
DTSTART;TZID=UTC:20231202T140000
DTEND;TZID=UTC:20231202T170000
DTSTAMP:20260424T143738
CREATED:20231115T020811Z
LAST-MODIFIED:20231115T020811Z
UID:3271-1701525600-1701536400@www.newgenerationwc.org
SUMMARY:NGWC Leadership Meeting @2:00 PM
DESCRIPTION:Pastor and the Leadership Team Meeting at the Church from 2-5 pm
URL:https://www.newgenerationwc.org/event/ngwc-leadership-meeting-200-pm/
CATEGORIES:Meeting
END:VEVENT
END:VCALENDAR