BEGIN:VCALENDAR
VERSION:2.0
PRODID:-//New Generation Worship Center - ECPv6.15.17.1//NONSGML v1.0//EN
CALSCALE:GREGORIAN
METHOD:PUBLISH
X-WR-CALNAME:New Generation Worship Center
X-ORIGINAL-URL:https://www.newgenerationwc.org
X-WR-CALDESC:Events for New Generation Worship Center
REFRESH-INTERVAL;VALUE=DURATION:PT1H
X-Robots-Tag:noindex
X-PUBLISHED-TTL:PT1H
BEGIN:VTIMEZONE
TZID:UTC
BEGIN:STANDARD
TZOFFSETFROM:+0000
TZOFFSETTO:+0000
TZNAME:UTC
DTSTART:20220101T000000
END:STANDARD
END:VTIMEZONE
BEGIN:VEVENT
DTSTART;TZID=UTC:20230819T090000
DTEND;TZID=UTC:20230819T113000
DTSTAMP:20260424T101958
CREATED:20230726T041556Z
LAST-MODIFIED:20230726T041557Z
UID:3144-1692435600-1692444600@www.newgenerationwc.org
SUMMARY:Husband and Wife Brunch
DESCRIPTION:  \nPlease RSVP by way of: www.eventbrite.com
URL:https://www.newgenerationwc.org/event/husband-and-wife-brunch/
LOCATION:Comfort Inn\, 16931 Old Stage Road\, Dumfries\, VA\, 22026\, United States
CATEGORIES:Husband and Wife Ministry
END:VEVENT
END:VCALENDAR