BEGIN:VCALENDAR
VERSION:2.0
PRODID:-//New Generation Worship Center - ECPv6.15.17.1//NONSGML v1.0//EN
CALSCALE:GREGORIAN
METHOD:PUBLISH
X-WR-CALNAME:New Generation Worship Center
X-ORIGINAL-URL:https://www.newgenerationwc.org
X-WR-CALDESC:Events for New Generation Worship Center
REFRESH-INTERVAL;VALUE=DURATION:PT1H
X-Robots-Tag:noindex
X-PUBLISHED-TTL:PT1H
BEGIN:VTIMEZONE
TZID:UTC
BEGIN:STANDARD
TZOFFSETFROM:+0000
TZOFFSETTO:+0000
TZNAME:UTC
DTSTART:20230101T000000
END:STANDARD
END:VTIMEZONE
BEGIN:VEVENT
DTSTART;TZID=UTC:20241230T183000
DTEND;TZID=UTC:20250103T193000
DTSTAMP:20260424T140932
CREATED:20241110T071337Z
LAST-MODIFIED:20241110T071337Z
UID:3504-1735583400-1735932600@www.newgenerationwc.org
SUMMARY:Kingdom Connection on Zoom
DESCRIPTION:Zoom ID 727 329 7404 \nZoom Passcode: 571993
URL:https://www.newgenerationwc.org/event/kingdom-connection-on-zoom-15/
END:VEVENT
END:VCALENDAR