BEGIN:VCALENDAR
VERSION:2.0
PRODID:-//New Generation Worship Center - ECPv6.15.17.1//NONSGML v1.0//EN
CALSCALE:GREGORIAN
METHOD:PUBLISH
X-ORIGINAL-URL:https://www.newgenerationwc.org
X-WR-CALDESC:Events for New Generation Worship Center
REFRESH-INTERVAL;VALUE=DURATION:PT1H
X-Robots-Tag:noindex
X-PUBLISHED-TTL:PT1H
BEGIN:VTIMEZONE
TZID:UTC
BEGIN:STANDARD
TZOFFSETFROM:+0000
TZOFFSETTO:+0000
TZNAME:UTC
DTSTART:20230101T000000
END:STANDARD
END:VTIMEZONE
BEGIN:VEVENT
DTSTART;TZID=UTC:20241223T183000
DTEND;TZID=UTC:20241227T193000
DTSTAMP:20260424T154249
CREATED:20241110T071228Z
LAST-MODIFIED:20241110T071228Z
UID:3502-1734978600-1735327800@www.newgenerationwc.org
SUMMARY:Kingdom Connection on Zoom
DESCRIPTION:Zoom ID 727 329 7404 \nZoom Passcode: 571993
URL:https://www.newgenerationwc.org/event/kingdom-connection-on-zoom-14/
END:VEVENT
BEGIN:VEVENT
DTSTART;TZID=UTC:20241224T190000
DTEND;TZID=UTC:20241224T200000
DTSTAMP:20260424T154249
CREATED:20241110T060412Z
LAST-MODIFIED:20241110T060412Z
UID:3477-1735066800-1735070400@www.newgenerationwc.org
SUMMARY:Bible Study
DESCRIPTION:
URL:https://www.newgenerationwc.org/event/bible-study-5/
END:VEVENT
END:VCALENDAR