BEGIN:VCALENDAR
VERSION:2.0
PRODID:-//New Generation Worship Center - ECPv6.15.17.1//NONSGML v1.0//EN
CALSCALE:GREGORIAN
METHOD:PUBLISH
X-ORIGINAL-URL:https://www.newgenerationwc.org
X-WR-CALDESC:Events for New Generation Worship Center
REFRESH-INTERVAL;VALUE=DURATION:PT1H
X-Robots-Tag:noindex
X-PUBLISHED-TTL:PT1H
BEGIN:VTIMEZONE
TZID:UTC
BEGIN:STANDARD
TZOFFSETFROM:+0000
TZOFFSETTO:+0000
TZNAME:UTC
DTSTART:20230101T000000
END:STANDARD
END:VTIMEZONE
BEGIN:VEVENT
DTSTART;TZID=UTC:20241209T183000
DTEND;TZID=UTC:20241213T193000
DTSTAMP:20260424T154253
CREATED:20241110T071012Z
LAST-MODIFIED:20241110T071012Z
UID:3498-1733769000-1734118200@www.newgenerationwc.org
SUMMARY:Kingdom Connection on Zoom
DESCRIPTION:Zoom ID 727 329 7404 \nZoom Passcode: 571993
URL:https://www.newgenerationwc.org/event/kingdom-connection-on-zoom-12/
END:VEVENT
BEGIN:VEVENT
DTSTART;TZID=UTC:20241210T190000
DTEND;TZID=UTC:20241210T200000
DTSTAMP:20260424T154253
CREATED:20241110T060012Z
LAST-MODIFIED:20241110T060012Z
UID:3473-1733857200-1733860800@www.newgenerationwc.org
SUMMARY:Bible Study
DESCRIPTION:
URL:https://www.newgenerationwc.org/event/bible-study-3/
END:VEVENT
END:VCALENDAR